BEGIN:VCALENDAR
VERSION:2.0
PRODID:-//Outside World Festival - ECPv6.15.11//NONSGML v1.0//EN
CALSCALE:GREGORIAN
METHOD:PUBLISH
X-ORIGINAL-URL:https://outside-world.de
X-WR-CALDESC:Veranstaltungen für Outside World Festival
REFRESH-INTERVAL;VALUE=DURATION:PT1H
X-Robots-Tag:noindex
X-PUBLISHED-TTL:PT1H
BEGIN:VTIMEZONE
TZID:Europe/Berlin
BEGIN:DAYLIGHT
TZOFFSETFROM:+0100
TZOFFSETTO:+0200
TZNAME:CEST
DTSTART:20250330T010000
END:DAYLIGHT
BEGIN:STANDARD
TZOFFSETFROM:+0200
TZOFFSETTO:+0100
TZNAME:CET
DTSTART:20251026T010000
END:STANDARD
BEGIN:DAYLIGHT
TZOFFSETFROM:+0100
TZOFFSETTO:+0200
TZNAME:CEST
DTSTART:20260329T010000
END:DAYLIGHT
BEGIN:STANDARD
TZOFFSETFROM:+0200
TZOFFSETTO:+0100
TZNAME:CET
DTSTART:20261025T010000
END:STANDARD
BEGIN:DAYLIGHT
TZOFFSETFROM:+0100
TZOFFSETTO:+0200
TZNAME:CEST
DTSTART:20270328T010000
END:DAYLIGHT
BEGIN:STANDARD
TZOFFSETFROM:+0200
TZOFFSETTO:+0100
TZNAME:CET
DTSTART:20271031T010000
END:STANDARD
END:VTIMEZONE
BEGIN:VEVENT
DTSTART;TZID=Europe/Berlin:20260116T220000
DTEND;TZID=Europe/Berlin:20260117T070000
DTSTAMP:20260419T230828
CREATED:20251216T103946Z
LAST-MODIFIED:20260106T210940Z
UID:3614-1768600800-1768633200@outside-world.de
SUMMARY:ANNA REUSCH & Nick Schwenderling @ Hamburg 16.1.2026
DESCRIPTION:x-OSW & UNIT events pres. “This is Techno!”:\nANNA REUSCH \nKey Facts:\nDate: Friday\, 16.01.2026\nDOORS open: 22:00\n2 Floors (Peak Time Techno / Melodic Techno / Tech House / Hard Techno)\nLOCATION: Conventstrasse 8-10c\, 22089 Hamburg \nARTIST:\nANNA REUSCH (Arcane Music) – Denmark\nNICK SCHWENDERLING (Yellow Kitchen / Kittball Rec.)\nJO VAN DER MEER (VerflixtMusic)\nSOPHIE VAN HAYDEN (Subios Rec./ Frequenza)\nMART!NK (UNIT events)\nREVIL O. (Outside World Events)\nHEINRICH & HEINE (Monkey League / Ballroom Rec.)\nRENEGAT (Sinus Recordings) \nSpecials:\n26! LED SCREENS / LED WALLS\nFULL COLOUR LASER\nAWARENESS TEAM by MIAMORE\nFOOD TRUCK \nEINTRITT / TICKETS (VVK 21\,50€ inkl. Gebühren | AK: 25€) \nEinlass ab 18 Jahren – ohne Ausnahmen! \nLOCATION\nThe new Techno-Friday @ H1\nConventstrasse 8-10c\n22089Hamburg
URL:https://outside-world.de/event/anna-reusch-nick-schwenderling-hamburg-16-1-2026/
LOCATION:Niedersachsen
CATEGORIES:Hamburg,Outside World
ATTACH;FMTTYPE=image/png:https://outside-world.de/wp-content/uploads/2025/12/Anna-Rechteck-Flyer-Last-Neu.png
ORGANIZER;CN="Outside World Festival":MAILTO:marketing@entertayn.de
END:VEVENT
END:VCALENDAR