BEGIN:VCALENDAR
VERSION:2.0
PRODID:-//Outside World Festival - ECPv6.15.11//NONSGML v1.0//EN
CALSCALE:GREGORIAN
METHOD:PUBLISH
X-WR-CALNAME:Outside World Festival
X-ORIGINAL-URL:https://outside-world.de
X-WR-CALDESC:Veranstaltungen für Outside World Festival
REFRESH-INTERVAL;VALUE=DURATION:PT1H
X-Robots-Tag:noindex
X-PUBLISHED-TTL:PT1H
BEGIN:VTIMEZONE
TZID:Europe/Berlin
BEGIN:DAYLIGHT
TZOFFSETFROM:+0100
TZOFFSETTO:+0200
TZNAME:CEST
DTSTART:20250330T010000
END:DAYLIGHT
BEGIN:STANDARD
TZOFFSETFROM:+0200
TZOFFSETTO:+0100
TZNAME:CET
DTSTART:20251026T010000
END:STANDARD
BEGIN:DAYLIGHT
TZOFFSETFROM:+0100
TZOFFSETTO:+0200
TZNAME:CEST
DTSTART:20260329T010000
END:DAYLIGHT
BEGIN:STANDARD
TZOFFSETFROM:+0200
TZOFFSETTO:+0100
TZNAME:CET
DTSTART:20261025T010000
END:STANDARD
BEGIN:DAYLIGHT
TZOFFSETFROM:+0100
TZOFFSETTO:+0200
TZNAME:CEST
DTSTART:20270328T010000
END:DAYLIGHT
BEGIN:STANDARD
TZOFFSETFROM:+0200
TZOFFSETTO:+0100
TZNAME:CET
DTSTART:20271031T010000
END:STANDARD
END:VTIMEZONE
BEGIN:VEVENT
DTSTART;TZID=Europe/Berlin:20260228T200000
DTEND;TZID=Europe/Berlin:20260301T050000
DTSTAMP:20260419T192353
CREATED:20250924T115744Z
LAST-MODIFIED:20260106T211735Z
UID:2966-1772308800-1772341200@outside-world.de
SUMMARY:OUTSIDE WORLD FESTIVAL - OSNABRÜCK
DESCRIPTION:Am 28. Februar 2026 ist es soweit!Nach einem Jahr ist das OUTSIDE WORLD FESTIVAL zum 2. Mal zu Gast in Osnabrück!Und das in der TOP-Locations der City:\nALANDO BALLHAUS!\nLINE UP:\nCHARLY LOWNOISEEVI GOFFIN former Singer of LASGO – LIVE ON STAGEDJ QUICKSILVERTALLA 2XLCBROOKLYN BOUNCE DJWOODY VAN EYDEN\nMARC VAN LINDEN\nREVIL O.\nSVEN KERKHOFF\nANTHONY STARDUST\n\nTickets gibt´s ab sofort hier:Tickets are Online\n\n\nWir freuen uns auf Euch!\n\nVIP Tickets enthalten:Fast Lane\, VIP Bereiche mit eigener Bar\, Begrüßungsgetränk\, Stehtische\, Hocker\, Sweets\, 3 free Jägermeister-Shots\, OSW- Give Aways\, 10% Rabatt aufs Merchandise\, Tischreservierung möglich\n\n\n 
URL:https://outside-world.de/event/outside-world-festival-osnabrueck/
LOCATION:Alando Ballhaus\, Pottgraben 60\, Osnabrück\, Niedersachsen\, 49074\, Germany
CATEGORIES:Osnabrück,Outside World
ATTACH;FMTTYPE=image/jpeg:https://outside-world.de/wp-content/uploads/2025/09/Osnabrueck_banner_Final.jpg
ORGANIZER;CN="Outside World Festival":MAILTO:marketing@entertayn.de
END:VEVENT
END:VCALENDAR