BEGIN:VCALENDAR
VERSION:2.0
PRODID:-//Outside World Festival - ECPv6.15.11//NONSGML v1.0//EN
CALSCALE:GREGORIAN
METHOD:PUBLISH
X-WR-CALNAME:Outside World Festival
X-ORIGINAL-URL:https://outside-world.de
X-WR-CALDESC:Veranstaltungen für Outside World Festival
REFRESH-INTERVAL;VALUE=DURATION:PT1H
X-Robots-Tag:noindex
X-PUBLISHED-TTL:PT1H
BEGIN:VTIMEZONE
TZID:Europe/Berlin
BEGIN:DAYLIGHT
TZOFFSETFROM:+0100
TZOFFSETTO:+0200
TZNAME:CEST
DTSTART:20250330T010000
END:DAYLIGHT
BEGIN:STANDARD
TZOFFSETFROM:+0200
TZOFFSETTO:+0100
TZNAME:CET
DTSTART:20251026T010000
END:STANDARD
BEGIN:DAYLIGHT
TZOFFSETFROM:+0100
TZOFFSETTO:+0200
TZNAME:CEST
DTSTART:20260329T010000
END:DAYLIGHT
BEGIN:STANDARD
TZOFFSETFROM:+0200
TZOFFSETTO:+0100
TZNAME:CET
DTSTART:20261025T010000
END:STANDARD
BEGIN:DAYLIGHT
TZOFFSETFROM:+0100
TZOFFSETTO:+0200
TZNAME:CEST
DTSTART:20270328T010000
END:DAYLIGHT
BEGIN:STANDARD
TZOFFSETFROM:+0200
TZOFFSETTO:+0100
TZNAME:CET
DTSTART:20271031T010000
END:STANDARD
END:VTIMEZONE
BEGIN:VEVENT
DTSTART;TZID=Europe/Berlin:20260307T193000
DTEND;TZID=Europe/Berlin:20260308T060000
DTSTAMP:20260419T190830
CREATED:20251216T105717Z
LAST-MODIFIED:20260223T091156Z
UID:3625-1772911800-1772949600@outside-world.de
SUMMARY:OUTSIDE WORLD FESTIVAL - BACK IN HANNOVER-CITY
DESCRIPTION:Raver!\nWir können es kaum glauben.\nAber es gibt 2026 endlich ein COMEBACK des \nOUTSIDE WORLD FESTIVAL in Hannover-City!!!!! \nUnd zwar zentraler denn je!!! \nAußerdem ein Mega-LineUp voller Legenden\, die uns mit Classics and more verwöhnen! \nDie Location hat es so noch nie gegeben!!\nDa Hannover keine geeignete Halle mehr hat dachten wir uns\, verbinden wir einfach mehrere miteinander 🙂 \nUnd zwar verbinden wir den Raschplatz 5 mit dem Raschplatz 7!\nSomit haben wir 3 Areas! \nZusätzliche Deko und zusätzliche Technik inkl. Aufstockung des Soundsystems tun ihr weiteres und lassen auf eine geniale Nacht hoffen. \nEine Sache die uns ganz wichtig ist.\nWir fragen Euch und wir hören Euch zu!\nUnd wir setzen um:\nWir werden wieder sehr viel mehr Wert auf Classics\,\ninsbesondere Original-Classics legen. \nAb 2026 wird es konsequent immer mindestens eine Area geben in der Ihr Eure originalen Techno & Trance Hymnen aufs Ohr bekommt! \nAuch die Artists werden dazu angehalten auch in den anderen Areas wieder mehr Classic-Hits zu spielen. \nTickets gibts ab sofort Online:\nTickets are Online \nACHTUNG: Ab sofort sind bei unseren Events die hohen Ticketgebühren im Eintrittspreis enthalten! Lediglich die Paypal oder Kreditkartengebühren kommen on Top. \nWir freuen uns auf Euch!!!!\nEuer OSW-Team !
URL:https://outside-world.de/event/outside-world-festival-back-in-hannover-city/
LOCATION:OSW am\, Raschplatz\, Hannover\, Niedersachsen\, 30161\, Germany
CATEGORIES:Hannover,Outside World
ATTACH;FMTTYPE=image/jpeg:https://outside-world.de/wp-content/uploads/2025/12/Hannover_070326_Banner-2-scaled.jpg
ORGANIZER;CN="Outside World Festival":MAILTO:marketing@entertayn.de
END:VEVENT
END:VCALENDAR