BEGIN:VCALENDAR
VERSION:2.0
PRODID:-//Outside World Festival - ECPv6.15.11//NONSGML v1.0//EN
CALSCALE:GREGORIAN
METHOD:PUBLISH
X-WR-CALNAME:Outside World Festival
X-ORIGINAL-URL:https://outside-world.de
X-WR-CALDESC:Veranstaltungen für Outside World Festival
REFRESH-INTERVAL;VALUE=DURATION:PT1H
X-Robots-Tag:noindex
X-PUBLISHED-TTL:PT1H
BEGIN:VTIMEZONE
TZID:Europe/Berlin
BEGIN:DAYLIGHT
TZOFFSETFROM:+0100
TZOFFSETTO:+0200
TZNAME:CEST
DTSTART:20250330T010000
END:DAYLIGHT
BEGIN:STANDARD
TZOFFSETFROM:+0200
TZOFFSETTO:+0100
TZNAME:CET
DTSTART:20251026T010000
END:STANDARD
BEGIN:DAYLIGHT
TZOFFSETFROM:+0100
TZOFFSETTO:+0200
TZNAME:CEST
DTSTART:20260329T010000
END:DAYLIGHT
BEGIN:STANDARD
TZOFFSETFROM:+0200
TZOFFSETTO:+0100
TZNAME:CET
DTSTART:20261025T010000
END:STANDARD
BEGIN:DAYLIGHT
TZOFFSETFROM:+0100
TZOFFSETTO:+0200
TZNAME:CEST
DTSTART:20270328T010000
END:DAYLIGHT
BEGIN:STANDARD
TZOFFSETFROM:+0200
TZOFFSETTO:+0100
TZNAME:CET
DTSTART:20271031T010000
END:STANDARD
END:VTIMEZONE
BEGIN:VEVENT
DTSTART;TZID=Europe/Berlin:20260808T180000
DTEND;TZID=Europe/Berlin:20260809T030000
DTSTAMP:20260425T135506
CREATED:20250919T114012Z
LAST-MODIFIED:20251216T101133Z
UID:2923-1786212000-1786244400@outside-world.de
SUMMARY:STRAND MIEZEN - The Seaside Rave
DESCRIPTION:STRAND MIEZEN – The Seaside Rave\n+++FULL LINE UP ONLINE+++Ohne groß zu viele Superlative zu verwenden\, versprechen wir euch am 08. August 2026 einen unfassbar geilen Rave am Strand des Friedrichsbades in Zwintschöna.\nWir haben euch ein Lineup zusammengestellt das sich wirklich sehen lassen:WESTBAMDJ RUSHDR. MOTTEMARCO REMUSMARC VAN LINDEN REVIL O.C.H.R.I.S.MARIO LOPEZ\nMiauEure Strand Miezen\nDatum: 08.08.2026Beginn: 18.00 Uhr\nTicketstufe 2: 27\,00 Euro inkl. Gebühren\nAußerdem ab sofort Online:VIP Festival Tickets!\n89\,00 Euro Das limitierte VIP-TICKET enthält:Fast Lane\, Eigene VIP-Bar\, Sitzgelegenheiten\, 4 Getränke Deiner Wahl (AFGs)\, 4 Jägermeister Shots\, Fingerfood\, Sweets\, Give Aways and many more!\n\nTickets are Online\n 
URL:https://outside-world.de/event/strand-mietzen-the-seaside-rave/
LOCATION:Friedrichsbad Zwintschöna\, Am Friedrichsbad 1\, Kabelsketal\, 06184\, Germany
CATEGORIES:Halle,Outside World
ATTACH;FMTTYPE=image/jpeg:https://outside-world.de/wp-content/uploads/2025/09/Myedit.jpg
ORGANIZER;CN="Outside World Festival":MAILTO:marketing@entertayn.de
END:VEVENT
END:VCALENDAR